BEGIN:VCALENDAR
VERSION:2.0
PRODID:-//hacksw/handcal//NONSGML v1.0//EN
BEGIN:VEVENT
SUMMARY:Fuveau : Rajol - Les Michels - Belcodene - Rajol
UID:635c2707-b050-483e-bfac-8bfcfa82961a
DTSTART:20260421T064500Z
DTEND:20260421T140000Z
LOCATION:Localisation Les Rajols 13710 Fuveau
CATEGORIES:Sportif
STATUS:
DESCRIPTION:<div class="row">
 <div class="col-12">
 <div
 class="info_entete">
 <p><strong><span
 style="color:rgb(0,128,0);"><span style="font-size:22px;">Fiche
 d'information</span></span></strong></p>
 </div>
 
 <div
 class="description">
 <hr>
 <p>  J<span style="font-size:16px;">e ne
 peux pas faire la randonnee dans le massif de l’Etoile, car celle
 que j’ai reperee hier est vraiment trop difficile. Je vous propose
 a la place une randonnee que nous avions faite l’an dernier avec
 tres peu de participants : elle est facile, entre Fuveau, Les Michels
 et Belcodene, sur des pistes et des sentiers en
 sous-bois.</span></p>
 
 <p><span style="font-size:16px;">Rendez-vous
 pour un depart a</span><span style="font-size:20px;"><span
 style="color:#e74c3c;"><strong>8 h 45</strong></span></span><span
 style="font-size:16px;"> sur le parking de la gare routiere, avenue
 du General Leclerc a Fuveau (entre la pharmacie et les pompiers), ou
 a </span><strong><span style="color:#e74c3c;"><span
 style="font-size:20px;">9 h 00</span></span></strong><span
 style="font-size:16px;">au depart de la randonnee, chemin des Rajols
 (coordonnees : 43,444631 / 5,580546.</span></p>
 
 <h4 dir="ltr"><span
 style="color:rgb(0,128,0);"><strong><span
 style="font-size:16px;"><span>Caracteristiques estimees de la
 randonnee:</span></span></strong></span></h4>
 
 <ul
 dir="ltr">
 	<li><span style="font-size:16px;"><span><span
 style="font-size:14px;"><span>Penibilite  : <span
 style="color:rgb(255,0,0);">
 P1</span></span></span></span></span></li>
 	<li><span
 style="font-size:14px;"><span>Technicite : <span
 style="color:rgb(255,0,0);">T1</span></span></span></li>
 	<li><span
 style="font-size:14px;"><span><span
 style="font-size:14px;"><span>Distance   :<span
 style="color:#ff0000;"> 
 10 Km</span></span>             
 </span></span></span></li>
 	<li><span
 style="font-size:14px;"><span><span
 style="font-size:14px;"><span>Denivele cumule positif
 :</span><span> <span
 style="color:rgb(255,0,0);"> 213</span></span><span
 style="color:rgb(255,0,0);"><span>m
 </span></span></span></span></span></li>
 	<li><span
 style="font-size:14px;"><span><span
 style="font-size:14px;"><span><span
 style="font-size:14px;"><span>Temps de marche         :<span
 style="color:rgb(128,0,128);"> </span><span
 style="color:#ff0000;">4h30</span></span></span></span></span></span></span></li>
 	<li><span
 style="font-size:14px;"><span><span
 style="font-size:14px;"><span><span
 style="font-size:14px;"><span><span
 style="font-size:14px;"><span>Difficultes particulieres  :<span> 
 </span></span></span></span></span></span></span></span></span></li>
 </ul>
 
 <p><strong><span
 style="font-size:16px;"><span><span
 style="color:rgb(0,128,0);">Renseignements
 complementaires :</span></span></span><span
 style="color:#3498db;"><span
 style="font-size:16px;"> </span></span></strong><span
 style="font-size:14px;"><span><span
 style="font-size:14px;"><span><span
 style="font-size:14px;"><span><span
 style="font-size:14px;"><span><span><span
 style="color:#008000;"> </span></span></span></span></span></span></span></span></span></span></p>
 
 <p><strong><span
 style="font-size:14px;"><span><span>Animateurs : Philippe       
 Telephone:
 0662567160</span></span></span></strong></p>
 
 <p><strong><span
 style="font-size:14px;"><span>Cliquez sur les noms de fichier
 suivants pour les visualiser a
 lecran:</span></span></strong></p>
 
 <p><span
 style="font-size:14px;"><strong><span style="color:#3498db;"><a
 href="https://admin.sportsregions.fr/media/uploaded/sites/14412/kcupload/files/SityTrail%20-%204633538%20-%20fuveau-x-rajol-x-les-michels-x-belcodene-x-rajol-%20-%20Carte%20seule%20A4%20Portrait.pdf"
 target="_blank" rel="noreferrer noopener">carte  </a>   <a
 href="https://admin.sportsregions.fr/media/uploaded/sites/14412/kcupload/files/SityTrail%20-%204633538%20-%20fuveau-x-rajol-x-les-michels-x-belcodene-x-rajol-.gpx"
 target="_blank" rel="noreferrer noopener">Fichier
 GPX</a></span></strong></span></p>
 
 <p>(*) pour copier les fichiers
 GPX sur votre ordinateur faite un clic droit puis ' enregistrez la
 cible du lien sous...'</p>
 
 <p><strong><span
 style="font-size:16px;"><span style="color:rgb(0,128,0);"><span
 style="font-family:Arial;font-style:normal;font-weight:400;text-decoration:none;background-color:transparent;">Merci
 de noter : </span></span></span></strong><span
 style="color:rgb(0,0,0);font-family:Arial;font-size:11pt;font-style:normal;font-weight:400;text-decoration:none;background-color:transparent;">  
 </span><span
 style="color:rgb(0,0,0);font-family:Arial;font-size:11pt;font-style:normal;font-weight:400;text-decoration:none;background-color:transparent;">   
 </span></p>
 
 <p dir="ltr"><span style="font-size:10px;"><span
 style="color:rgb(0,0,0);font-family:Arial;font-style:normal;font-weight:400;text-decoration:none;background-color:transparent;">-Le
 depart des randonnees se fera a l'heure indiquee ; on n'attendra pas
 les retardataires !</span></span></p>
 
 <p dir="ltr"><span
 style="font-size:10px;"><span
 style="color:rgb(0,0,0);font-family:Arial;font-style:normal;font-weight:400;text-decoration:none;background-color:transparent;">-La
 distance et le temps de marche indiques le sont a titre indicatif ;
 l'animateur peut etre amene a modifier l'itineraire ou le rythme en
 fonction des circonstances.</span></span></p>
 
 <p dir="ltr"><span
 style="font-size:10px;"><span
 style="color:rgb(0,0,0);font-family:Arial;font-style:normal;font-weight:400;text-decoration:none;background-color:transparent;">-Pendant
 la randonnee, il est demande de :</span></span></p>
 
 <p
 dir="ltr"><span style="font-size:10px;"><span
 style="color:rgb(0,0,0);font-family:Arial;font-style:normal;font-weight:400;text-decoration:none;background-color:transparent;">-rester
 derriere l'animateur ;</span></span></p>
 
 <p dir="ltr"><span
 style="font-size:10px;"><span
 style="color:rgb(0,0,0);font-family:Arial;font-style:normal;font-weight:400;text-decoration:none;background-color:transparent;">-si
 vous devez vous eloigner pour un arret technique, posez votre sac sur
 le sentier afin que le serre file vous attende
 ;</span></span></p>
 
 <p dir="ltr"><span style="font-size:10px;"><span
 style="color:rgb(0,0,0);font-family:Arial;font-style:normal;font-weight:400;text-decoration:none;background-color:transparent;">-signaler
 a l'animateur ou au serre-file toute difficulte ou
 malaise.</span></span></p>
 
 <p dir="ltr"><span
 style="font-size:10px;"><span
 style="color:rgb(0,0,0);font-family:Arial;font-style:normal;font-weight:400;text-decoration:none;background-color:transparent;">-Un
 participant qui ne suivrait pas ces consignes se placerait hors du
 groupe ; de ce fait, il ne serait plus sous la responsabilite de
 l'animateur et ne beneficierait plus de
 l'assurance.</span></span></p>
 
 <p dir="ltr"><span
 style="font-size:10px;"><span
 style="color:rgb(0,0,0);font-family:Arial;font-style:normal;font-weight:400;text-decoration:none;background-color:transparent;">-Le
 port de chaussures de randonnee (semelle a crampon) est obligatoire ;
 les personnes mal chaussees ne pourront pas etre
 admises.</span></span></p>
 
 <p dir="ltr"><span
 style="font-size:10px;"><span
 style="color:rgb(0,0,0);font-family:Arial;font-style:normal;font-weight:400;text-decoration:none;background-color:transparent;">-Pensez
 a prendre de l'eau en quantite suffisante, un pique-nique pour les
 sorties a la journee, vos medicaments, votre trousse de
 secours.</span></span></p>
 
 <p dir="ltr"><span
 style="font-size:10px;"><span
 style="color:rgb(0,0,0);font-family:Arial;font-style:normal;font-weight:400;text-decoration:none;background-color:transparent;">-Pensez
 a revenir sur le site avant de vous rendre au depart pour verifier
 que la sortie n'a pas ete
 annulee.</span></span></p>
 </div>
 </div>
 </div>
 
 <div
 class="row">
 <div class="col-12">
 <div class="mt-3"
 id="partage"> </div>
 </div>
 </div>
URL;VALUE=URI:https://randonneesenprovence.sportsregions.fr/evenements/2026/04/21/fuveau-rajol-les-michels-belcodene-rajol-2441953
END:VEVENT
END:VCALENDAR
