BEGIN:VCALENDAR
VERSION:2.0
PRODID:-//hacksw/handcal//NONSGML v1.0//EN
BEGIN:VEVENT
SUMMARY:Des ESPILLIERES au "Viel AUBAGNE"
UID:b8c039a8-6228-43ab-9ff8-482420bafb5d
DTSTART:20260331T070000Z
DTEND:20260331T160000Z
LOCATION:Localisation Parking au bout du chemin des Espillieres 13400 AUBAGNE
CATEGORIES:Sportif
STATUS:
DESCRIPTION:<div class="info_entete">
 <p><strong><span
 style="color:rgb(0,128,0);"><span style="font-size:22px;">Fiche
 d'information</span></span></strong></p>
 </div>
 
 <div
 class="description">
 <p dir="ltr"><strong><span
 style="font-size:14px;">Bonjour a tous,</span></strong></p>
 
 <p
 dir="ltr"><strong><span style="font-size:14px;">Brigitte et Alain
 nous proposent d'effectuer mardi prochain une visite un peu
 particuliere  d'Aubagne et des alentours des Espillieres
 .</span></strong></p>
 
 <p dir="ltr"><strong><span
 style="font-size:14px;"><u>Le matin</u> nous irons randonner au sud
 des bois des Espillieres et remonter sur le plateau dominant la
 campagne aubagnaise. .</span></strong></p>
 
 <p dir="ltr"><span
 style="font-size:14px;"><strong>Pour deguster <u>notre pique-nique
 </u>la terrasse hospitaliere de Brigitte et Alain nous acceuillera .
 Nul besoin d'apporter apero , vin et cafe ! Nous allons etre "
 chouchoutes"!</strong></span></p>
 
 <p dir="ltr"><span
 style="font-size:14px;"><strong>Apres cette pause  de midi  ce sera
 la decouverte du "Viel Aubagne" .Pensez a prevoir des chaussures plus
 legeres pour la randonnee urbaine.</strong></span></p>
 
 <p
 dir="ltr"><strong>Merci a nos deux nouveaux animateurs d'un mardi
 !</strong></p>
 
 <p dir="ltr"><u><span style="font-size:16px;"><span
 style="color:#d35400;">Depart rando du matin a 9h30 parking au bout
 du chemin des Espillieres a AUBAGNE</span></span></u></p>
 
 <p
 dir="ltr"> </p>
 
 <p dir="ltr"> </p>
 
 <h4 dir="ltr"><span
 style="color:rgb(0,128,0);"><strong><span
 style="font-size:16px;"><span>Caracteristiques estimees de la
 randonnee:</span></span></strong></span></h4>
 
 <p
 dir="ltr"> </p>
 
 <ul dir="ltr">
 	<li><span
 style="font-size:16px;"><span><span
 style="font-size:14px;"><span>Penibilite  : <span
 style="color:rgb(255,0,0);">
 P2</span></span></span></span></span></li>
 	<li><span
 style="font-size:14px;"><span>Technicite : <span
 style="color:rgb(255,0,0);">T1</span></span></span></li>
 	<li><span
 style="font-size:14px;"><span><span
 style="font-size:14px;"><span>Distance   :<span
 style="color:#ff0000;">  7,5 km</span></span>         
  </span></span></span></li>
 	<li><span
 style="font-size:14px;"><span><span
 style="font-size:14px;"><span>Denivele cumule positif
 :</span><span> <span
 style="color:#ff0000;">~250m</span></span></span></span></span></li>
 	<li><span
 style="font-size:14px;"><span><span
 style="font-size:14px;"><span><span
 style="font-size:14px;"><span>Temps de marche         <span
 style="color:#ff0000;">: 2h15</span></span></span></span></span></span></span></li>
 	<li><span
 style="font-size:14px;"><span><span
 style="font-size:14px;"><span><span
 style="font-size:14px;"><span><span
 style="font-size:14px;"><span>Difficultes particulieres 
 :<span> </span></span></span></span></span></span></span></span></span></li>
 </ul>
 
 <p><strong><span
 style="font-size:16px;"><span><span
 style="color:rgb(0,128,0);">Renseignements
 complementaires :</span></span></span><span
 style="color:#3498db;"><span
 style="font-size:16px;"> </span></span></strong></p>
 
 <p><strong><span
 style="font-size:14px;"><span><span>Animateurs : Jeanne et Rene   
     Telephone: 06 18 42 77 32 et  06 11 16 60
 5</span></span></span></strong><span
 style="font-size:14px;"><strong>3   en etroite collaboration avec B
 et A...</strong></span></p>
 
 <p>(*) pour copier les fichiers GPX sur
 votre ordinateur faite un clic droit puis ' enregistrez la cible du
 lien sous...'</p>
 
 <p><strong><span style="font-size:16px;"><span
 style="color:rgb(0,128,0);"><span
 style="font-family:Arial;font-style:normal;font-weight:400;text-decoration:none;background-color:transparent;">Merci
 de noter : </span></span></span></strong><span
 style="color:rgb(0,0,0);font-family:Arial;font-size:11pt;font-style:normal;font-weight:400;text-decoration:none;background-color:transparent;">  
 </span><span
 style="color:rgb(0,0,0);font-family:Arial;font-size:11pt;font-style:normal;font-weight:400;text-decoration:none;background-color:transparent;">   
 </span></p>
 
 <p dir="ltr"><span style="font-size:10px;"><span
 style="color:rgb(0,0,0);font-family:Arial;font-style:normal;font-weight:400;text-decoration:none;background-color:transparent;">-Le
 depart des randonnees se fera a l'heure indiquee ; on n'attendra pas
 les retardataires !</span></span></p>
 
 <p dir="ltr"><span
 style="font-size:10px;"><span
 style="color:rgb(0,0,0);font-family:Arial;font-style:normal;font-weight:400;text-decoration:none;background-color:transparent;">-La
 distance et le temps de marche indiques le sont a titre indicatif ;
 l'animateur peut etre amene a modifier l'itineraire ou le rythme en
 fonction des circonstances.</span></span></p>
 
 <p dir="ltr"><span
 style="font-size:10px;"><span
 style="color:rgb(0,0,0);font-family:Arial;font-style:normal;font-weight:400;text-decoration:none;background-color:transparent;">-Pendant
 la randonnee, il est demande de :</span></span></p>
 
 <p
 dir="ltr"><span style="font-size:10px;"><span
 style="color:rgb(0,0,0);font-family:Arial;font-style:normal;font-weight:400;text-decoration:none;background-color:transparent;">-rester
 derriere l'animateur ;</span></span></p>
 
 <p dir="ltr"><span
 style="font-size:10px;"><span
 style="color:rgb(0,0,0);font-family:Arial;font-style:normal;font-weight:400;text-decoration:none;background-color:transparent;">-si
 vous devez vous eloigner pour un arret technique, posez votre sac sur
 le sentier afin que le serre file vous attende
 ;</span></span></p>
 
 <p dir="ltr"><span style="font-size:10px;"><span
 style="color:rgb(0,0,0);font-family:Arial;font-style:normal;font-weight:400;text-decoration:none;background-color:transparent;">-signaler
 a l'animateur ou au serre-file toute difficulte ou
 malaise.</span></span></p>
 
 <p dir="ltr"><span
 style="font-size:10px;"><span
 style="color:rgb(0,0,0);font-family:Arial;font-style:normal;font-weight:400;text-decoration:none;background-color:transparent;">-Un
 participant qui ne suivrait pas ces consignes se placerait hors du
 groupe ; de ce fait, il ne serait plus sous la responsabilite de
 l'animateur et ne beneficierait plus de
 l'assurance.</span></span></p>
 
 <p dir="ltr"><span
 style="font-size:10px;"><span
 style="color:rgb(0,0,0);font-family:Arial;font-style:normal;font-weight:400;text-decoration:none;background-color:transparent;">-Le
 port de chaussures de randonnee (semelle a crampon) est obligatoire ;
 les personnes mal chaussees ne pourront pas etre
 admises.</span></span></p>
 
 <p dir="ltr"><span
 style="font-size:10px;"><span
 style="color:rgb(0,0,0);font-family:Arial;font-style:normal;font-weight:400;text-decoration:none;background-color:transparent;">-Pensez
 a prendre de l'eau en quantite suffisante, un pique-nique pour les
 sorties a la journee, vos medicaments, votre trousse de
 secours.</span></span></p>
 
 <p dir="ltr"><span
 style="font-size:10px;"><span
 style="color:rgb(0,0,0);font-family:Arial;font-style:normal;font-weight:400;text-decoration:none;background-color:transparent;">-Pensez
 a revenir sur le site avant de vous rendre au depart pour verifier
 que la sortie n'a pas ete annulee.</span></span></p>
 </div>
URL;VALUE=URI:https://randonneesenprovence.sportsregions.fr/evenements/2026/03/31/des-espillieres-au-viel-aubagne-2432454
END:VEVENT
END:VCALENDAR
